BEGIN:VCALENDAR
VERSION:2.0
PRODID:-//GFT Niederbayern - ECPv6.15.18//NONSGML v1.0//EN
CALSCALE:GREGORIAN
METHOD:PUBLISH
X-WR-CALNAME:GFT Niederbayern
X-ORIGINAL-URL:https://www.gft-niederbayern.de
X-WR-CALDESC:Veranstaltungen für GFT Niederbayern
REFRESH-INTERVAL;VALUE=DURATION:PT1H
X-Robots-Tag:noindex
X-PUBLISHED-TTL:PT1H
BEGIN:VTIMEZONE
TZID:Europe/Berlin
BEGIN:DAYLIGHT
TZOFFSETFROM:+0100
TZOFFSETTO:+0200
TZNAME:CEST
DTSTART:20250330T010000
END:DAYLIGHT
BEGIN:STANDARD
TZOFFSETFROM:+0200
TZOFFSETTO:+0100
TZNAME:CET
DTSTART:20251026T010000
END:STANDARD
BEGIN:DAYLIGHT
TZOFFSETFROM:+0100
TZOFFSETTO:+0200
TZNAME:CEST
DTSTART:20260329T010000
END:DAYLIGHT
BEGIN:STANDARD
TZOFFSETFROM:+0200
TZOFFSETTO:+0100
TZNAME:CET
DTSTART:20261025T010000
END:STANDARD
BEGIN:DAYLIGHT
TZOFFSETFROM:+0100
TZOFFSETTO:+0200
TZNAME:CEST
DTSTART:20270328T010000
END:DAYLIGHT
BEGIN:STANDARD
TZOFFSETFROM:+0200
TZOFFSETTO:+0100
TZNAME:CET
DTSTART:20271031T010000
END:STANDARD
END:VTIMEZONE
BEGIN:VEVENT
DTSTART;TZID=Europe/Berlin:20260518T183000
DTEND;TZID=Europe/Berlin:20260518T210000
DTSTAMP:20260423T143155
CREATED:20241211T115629Z
LAST-MODIFIED:20260416T073433Z
UID:5129-1779129000-1779138000@www.gft-niederbayern.de
SUMMARY:Trainerfortbildung
DESCRIPTION:Thema: Umschaltspiel\nReferent: Uwe Wolf \n  \n 
URL:https://www.gft-niederbayern.de/event/trainerfortbildung-3/
LOCATION:Stadion Deggendorf\, Konrad-Adenauer-Straße 8\, Deggendorf\, Bayern\, 94469\, Deutschland
CATEGORIES:GFT-Niederbayern
END:VEVENT
BEGIN:VEVENT
DTSTART;TZID=Europe/Berlin:20260713T183000
DTEND;TZID=Europe/Berlin:20260713T210000
DTSTAMP:20260423T143155
CREATED:20241211T115453Z
LAST-MODIFIED:20251215T085150Z
UID:5127-1783967400-1783976400@www.gft-niederbayern.de
SUMMARY:Trainerfortbildung
DESCRIPTION:Thema: TW-Training\nReferent: Philipp Tschauner \n  \n 
URL:https://www.gft-niederbayern.de/event/trainerfortbildung-2/
LOCATION:Stadion Deggendorf\, Konrad-Adenauer-Straße 8\, Deggendorf\, Bayern\, 94469\, Deutschland
CATEGORIES:GFT-Niederbayern
END:VEVENT
BEGIN:VEVENT
DTSTART;TZID=Europe/Berlin:20260907T183000
DTEND;TZID=Europe/Berlin:20260907T210000
DTSTAMP:20260423T143155
CREATED:20251127T070033Z
LAST-MODIFIED:20260210T133049Z
UID:5262-1788805800-1788814800@www.gft-niederbayern.de
SUMMARY:Trainerfortbildung
DESCRIPTION:Thema: Variables Dribbling detailliert coachen\nReferent: Lars Schulz (Verbandstrainer) \n  \n 
URL:https://www.gft-niederbayern.de/event/trainerfortbildung/
LOCATION:Stadion Deggendorf\, Konrad-Adenauer-Straße 8\, Deggendorf\, Bayern\, 94469\, Deutschland
CATEGORIES:GFT-Niederbayern
END:VEVENT
BEGIN:VEVENT
DTSTART;TZID=Europe/Berlin:20261123T183000
DTEND;TZID=Europe/Berlin:20261123T210000
DTSTAMP:20260423T143155
CREATED:20260204T102423Z
LAST-MODIFIED:20260204T104428Z
UID:5287-1795458600-1795467600@www.gft-niederbayern.de
SUMMARY:Trainerfortbildung
DESCRIPTION:Thema: Die Winteranalyse beginnt im Sommer / Boxbesetzung\nReferent: Michael Rentschler (Vorsitzender Verbandsgruppe Baden-Württemberg) \n  \n 
URL:https://www.gft-niederbayern.de/event/trainerfortbildung-4/
LOCATION:Webinar
CATEGORIES:GFT-Niederbayern
END:VEVENT
END:VCALENDAR